BEGIN:VCALENDAR
PRODID:-//IONAS//TVM//DE
VERSION:2.0
CALSCALE:GREGORIAN
BEGIN:VTIMEZONE
TZID:Europe/Berlin
LAST-MODIFIED:20201010T011803Z
TZURL:http://tzurl.org/zoneinfo/Europe/Berlin
X-LIC-LOCATION:Europe/Berlin
X-PROLEPTIC-TZNAME:LMT
BEGIN:STANDARD
TZNAME:CET
TZOFFSETFROM:+005328
TZOFFSETTO:+0100
DTSTART:18930401T000000
END:STANDARD
BEGIN:DAYLIGHT
TZNAME:CEST
TZOFFSETFROM:+0100
TZOFFSETTO:+0200
DTSTART:19160430T230000
RDATE:19400401T020000
RDATE:19430329T020000
RDATE:19460414T020000
RDATE:19470406T030000
RDATE:19480418T020000
RDATE:19490410T020000
RDATE:19800406T020000
END:DAYLIGHT
BEGIN:STANDARD
TZNAME:CET
TZOFFSETFROM:+0200
TZOFFSETTO:+0100
DTSTART:19161001T010000
RDATE:19421102T030000
RDATE:19431004T030000
RDATE:19441002T030000
RDATE:19451118T030000
RDATE:19461007T030000
END:STANDARD
BEGIN:DAYLIGHT
TZNAME:CEST
TZOFFSETFROM:+0100
TZOFFSETTO:+0200
DTSTART:19170416T020000
RRULE:FREQ=YEARLY;UNTIL=19180415T010000Z;BYMONTH=4;BYDAY=3MO
END:DAYLIGHT
BEGIN:STANDARD
TZNAME:CET
TZOFFSETFROM:+0200
TZOFFSETTO:+0100
DTSTART:19170917T030000
RRULE:FREQ=YEARLY;UNTIL=19180916T010000Z;BYMONTH=9;BYDAY=3MO
END:STANDARD
BEGIN:DAYLIGHT
TZNAME:CEST
TZOFFSETFROM:+0100
TZOFFSETTO:+0200
DTSTART:19440403T020000
RRULE:FREQ=YEARLY;UNTIL=19450402T010000Z;BYMONTH=4;BYDAY=1MO
END:DAYLIGHT
BEGIN:DAYLIGHT
TZNAME:CEMT
TZOFFSETFROM:+0200
TZOFFSETTO:+0300
DTSTART:19450524T020000
RDATE:19470511T030000
END:DAYLIGHT
BEGIN:DAYLIGHT
TZNAME:CEST
TZOFFSETFROM:+0300
TZOFFSETTO:+0200
DTSTART:19450924T030000
RDATE:19470629T030000
END:DAYLIGHT
BEGIN:STANDARD
TZNAME:CET
TZOFFSETFROM:+0100
TZOFFSETTO:+0100
DTSTART:19460101T000000
RDATE:19800101T000000
END:STANDARD
BEGIN:STANDARD
TZNAME:CET
TZOFFSETFROM:+0200
TZOFFSETTO:+0100
DTSTART:19471005T030000
RRULE:FREQ=YEARLY;UNTIL=19491002T010000Z;BYMONTH=10;BYDAY=1SU
END:STANDARD
BEGIN:STANDARD
TZNAME:CET
TZOFFSETFROM:+0200
TZOFFSETTO:+0100
DTSTART:19800928T030000
RRULE:FREQ=YEARLY;UNTIL=19950924T010000Z;BYMONTH=9;BYDAY=-1SU
END:STANDARD
BEGIN:DAYLIGHT
TZNAME:CEST
TZOFFSETFROM:+0100
TZOFFSETTO:+0200
DTSTART:19810329T020000
RRULE:FREQ=YEARLY;BYMONTH=3;BYDAY=-1SU
END:DAYLIGHT
BEGIN:STANDARD
TZNAME:CET
TZOFFSETFROM:+0200
TZOFFSETTO:+0100
DTSTART:19961027T030000
RRULE:FREQ=YEARLY;BYMONTH=10;BYDAY=-1SU
END:STANDARD
END:VTIMEZONE
BEGIN:VEVENT
DTSTAMP:20260425T173145Z
DTSTART;TZID=Europe/Berlin:20260619T190000
DTEND;TZID=Europe/Berlin:20260619T234500
SUMMARY:Kino im Park 2026 mit After-Work-Party vorab 
CREATED:20260120T085136Z
LAST-MODIFIED:20260120T085411Z
DESCRIPTION:Einlass: 19:00 Uhr zur After-Work-Party für die Kinobesucher\
 n\n\nFilmbeginn: 22:00 Uhr\n\nIn Zusammenarbeit mit dem Verein Gemeinsam
  für Neuses e. V..
LOCATION:Park Neuses
X-LOCATION-NAME:Park Neuses
X-STREET-ADDRESS:Schulstraße 1
X-POSTAL-CODE:63579
X-LOCALITY:Freigericht
ORGANIZER;CN=Gemeinde Freigericht:mailto:hauptamt@freigericht.de
X-ORGANIZER-NAME:Gemeinde Freigericht
X-ORGANIZER-EMAIL:hauptamt@freigericht.de
X-ORGANIZER-WEBSITE:https://www.freigericht.de/erleben-entdecken/veransta
 ltungen/kulturveranstaltungen/
X-ORGANIZER-ADDRESS-POSTALCODE:63579
X-ORGANIZER-ADDRESS-LOCALITY:Freigericht
X-ORGANIZER-ADDRESS-STREET:Rathausstraße 13
X-ORGANIZER-GEO:50.14136\;9.115337
X-ORGANIZER-ROOMNUMBER:Zimmer 19 b
CONTACT:FEMALE Sandra Grüb\,sandra.grueb@freigericht.de\,06055 916133
X-CONTACT-SALUTATION:FEMALE
X-CONTACT-GIVEN-NAME:Sandra
X-CONTACT-FAMILY-NAME:Grüb
X-CONTACT-EMAIL:sandra.grueb@freigericht.de
X-CONTACT-TELEPHONE:06055 916133
X-CONTACT-DEPARTMENT:Kultur und Vereine
ATTACH;FMTTYPE=image/jpeg;X-COPYRIGHT=Gemeinde Freigericht:https://www.fr
 eigericht.de/erleben-entdecken/veranstaltungen/kulturveranstaltungen/kin
 o-im-park-2019.jpg?cid=76g.vf7
UID:a69fa8e9-710c-4130-8f9a-3ee310cd250c:2026-06-19
END:VEVENT
END:VCALENDAR
